BEGIN:VCALENDAR
VERSION:2.0
PRODID:-//platt.best - Drift vun Harten//NONSGML kigkonsult.se iCalcreator 
 2.30.10//
CALSCALE:GREGORIAN
METHOD:PUBLISH
UID:65860cf2-7ddc-4ec3-b5ce-c937eeaa124a
X-WR-CALNAME:iCagenda
X-WR-CALDESC:Event Management Extension for Joomla!
X-WR-RELCALID:3E26604A-50F4-4449-8B3E-E4F4932D05B5
X-WR-TIMEZONE:Europe/Berlin
BEGIN:VTIMEZONE
TZID:Europe/Berlin
BEGIN:STANDARD
TZNAME:CET
DTSTART:20221030T030000
TZOFFSETFROM:+0200
TZOFFSETTO:+0100
RDATE:20231029T030000
END:STANDARD
BEGIN:DAYLIGHT
TZNAME:CEST
DTSTART:20220327T020000
TZOFFSETFROM:+0100
TZOFFSETTO:+0200
RDATE:20230326T020000
RDATE:20240331T020000
END:DAYLIGHT
END:VTIMEZONE
BEGIN:VEVENT
UID:34c7338a-f7a9-4dd7-a5a2-16015bc2b538
DTSTAMP:20260422T073752Z
CATEGORIES:Kultur
CLASS:PUBLIC
DESCRIPTION:
DTSTART:20230120T183000Z
DTEND:20230120T183000Z
GEO:+54.618618;+8.963138
LOCATION:Stadtbuchhandlung Bredstedt\, Markt 37
ORGANIZER;CN=:kontakt@stadtbuchhandlungbredstedt.de
SEQUENCE:1
SUMMARY:Vörstellen vun dat Book 'Ik heff tohuus en Swien'
TRANSP:OPAQUE
URL:https://platt.best/platt-termine/47-voerstellen-vun-dat-book-ik-heff-to
 huus-en-swien/2023-01-20-19-30
END:VEVENT
END:VCALENDAR
