BEGIN:VCALENDAR
VERSION:2.0
PRODID:-//platt.best - Drift vun Harten//NONSGML kigkonsult.se iCalcreator 
 2.30.10//
CALSCALE:GREGORIAN
METHOD:PUBLISH
UID:96bc337f-dc3d-4295-8c4d-872bf6698ee0
X-WR-CALNAME:iCagenda
X-WR-CALDESC:Event Management Extension for Joomla!
X-WR-RELCALID:3E26604A-50F4-4449-8B3E-E4F4932D05B5
X-WR-TIMEZONE:Europe/Berlin
BEGIN:VTIMEZONE
TZID:Europe/Berlin
BEGIN:STANDARD
TZNAME:CET
DTSTART:20251026T030000
TZOFFSETFROM:+0200
TZOFFSETTO:+0100
RDATE:20261025T030000
RDATE:20271031T030000
END:STANDARD
BEGIN:DAYLIGHT
TZNAME:CEST
DTSTART:20260329T020000
TZOFFSETFROM:+0100
TZOFFSETTO:+0200
RDATE:20270328T020000
END:DAYLIGHT
END:VTIMEZONE
BEGIN:VEVENT
UID:0495c574-dcf1-4abf-b14b-62d88f2d7d56
DTSTAMP:20260422T042725Z
CATEGORIES:Gottsdeenst
CLASS:PUBLIC
DESCRIPTION:
DTSTART:20260531T080000Z
DTEND:20260531T080000Z
GEO:00;0
LOCATION:St. Nikolai Kark\, Kirchenweg 1\, 25821 Bredstedt
ORGANIZER:
SEQUENCE:1
SUMMARY:Gottsdeenst op Platt in Bredstedt
TRANSP:OPAQUE
URL:https://platt.best/platt-termine/194-gottsdeenst-op-platt-in-bredstedt/
 2026-05-31-10-00
END:VEVENT
END:VCALENDAR
