BEGIN:VCALENDAR
VERSION:2.0
PRODID:-//platt.best - Drift vun Harten//NONSGML kigkonsult.se iCalcreator 2.41.92//
CALSCALE:GREGORIAN
METHOD:PUBLISH
UID:61656165-3334-4362-a562-333935393138
X-WR-CALNAME:iCagenda
X-WR-CALDESC:Event Management Extension for Joomla!
X-WR-RELCALID:3E26604A-50F4-4449-8B3E-E4F4932D05B5
X-WR-TIMEZONE:Europe/Berlin
BEGIN:VTIMEZONE
TZID:Europe/Berlin
TZUNTIL:20280326T010000Z
BEGIN:STANDARD
TZNAME:CET
DTSTART:20251026T030000
TZOFFSETFROM:+0200
TZOFFSETTO:+0100
RDATE:20261025T030000
RDATE:20271031T030000
END:STANDARD
BEGIN:DAYLIGHT
TZNAME:CEST
DTSTART:20260329T020000
TZOFFSETFROM:+0100
TZOFFSETTO:+0200
RDATE:20270328T020000
END:DAYLIGHT
END:VTIMEZONE
BEGIN:VEVENT
UID:64363539-3933-4433-a532-383838653730
DTSTAMP:20260425T185151Z
CATEGORIES:Gottsdeenst
CLASS:PUBLIC
DESCRIPTION:
DTSTART:20260705T140000Z
DTEND:20260705T140000Z
GEO:00;0
LOCATION:Baadsteed Stufhusen\, 25881 Westerhever
ORGANIZER:
SEQUENCE:1
SUMMARY:Gottsdeenst un Dööp an't Water
TRANSP:OPAQUE
URL:https://platt.best/platt-termine/138-gottsdeenst-un-doeoep-ant-water/20
 26-07-05-16-00?layout=vcal
END:VEVENT
END:VCALENDAR
