BEGIN:VCALENDAR
VERSION:2.0
PRODID:-//platt.best - Drift vun Harten//NONSGML kigkonsult.se iCalcreator 2.41.92//
CALSCALE:GREGORIAN
METHOD:PUBLISH
UID:64303564-6165-4565-b065-383261616239
X-WR-CALNAME:iCagenda
X-WR-CALDESC:Event Management Extension for Joomla!
X-WR-RELCALID:3E26604A-50F4-4449-8B3E-E4F4932D05B5
X-WR-TIMEZONE:Europe/Berlin
BEGIN:VTIMEZONE
TZID:Europe/Berlin
TZUNTIL:20280326T010000Z
BEGIN:STANDARD
TZNAME:CET
DTSTART:20251026T030000
TZOFFSETFROM:+0200
TZOFFSETTO:+0100
RDATE:20261025T030000
RDATE:20271031T030000
END:STANDARD
BEGIN:DAYLIGHT
TZNAME:CEST
DTSTART:20260329T020000
TZOFFSETFROM:+0100
TZOFFSETTO:+0200
RDATE:20270328T020000
END:DAYLIGHT
END:VTIMEZONE
BEGIN:VEVENT
UID:61633032-3839-4663-b238-363535353765
DTSTAMP:20260425T171430Z
CATEGORIES:Gottsdeenst
CLASS:PUBLIC
DESCRIPTION:
DTSTART:20260621T090000Z
DTEND:20260621T090000Z
GEO:00;0
LOCATION:Bredstedter Str. 1\, 25858 Högel
ORGANIZER:
SEQUENCE:1
SUMMARY:Gottsdeenst op Platt in Högel
TRANSP:OPAQUE
URL:https://platt.best/platt-termine/118-gottsdeenst-op-platt-in-hoegel/202
 6-06-21-11-00?layout=vcal
END:VEVENT
END:VCALENDAR
